BEGIN:VCALENDAR
VERSION:2.0
PRODID:icalendar-ruby
CALSCALE:GREGORIAN
METHOD:PUBLISH
BEGIN:VEVENT
DTSTAMP:20260419T233454Z
UID:event-143047@stampinup.net
DTSTART;TZID=Australia/Sydney:20220327T140000
DTEND;TZID=Australia/Sydney:20220327T170000
CREATED:20220211T145424
DESCRIPTION:This class we'll be using  - Happy Hedgehogs Bundle in the N
 ew Mini Catalogue January - June 2022\nI design the items we will be makin
 g\, and will be running the class using Zoom\, online – link and instru
 ctions emailed the day before.\nCustomers $30\, Team members $25. Plus po
 stage if required.\n\nCost includes a precut kit of the card\, papers and 
 embellishments\, and written instructions for 3 cards/items.\nIt does not 
 include the Bundle/Suite mentioned above.\nYou will need your own stamps\,
  inks and adhesives.\n\nPayment required before Kit sent out. \nPayments 
 can be made through Square\, PayPal or Direct Deposit to me - please con
 tact me to discuss your options.\nRegistration deadline for this class is 
 11th March 2022 so I have time to send them out in the post.\n\nDon't fo
 rget\, when you purchase over $50 on Stampin' Up! Products with me as you
 r demonstrator I will send you a Thank you gift!\nMy Current Host Code for
  purchases under $250 can be found on my Specials page.\n\nRSVP on this ev
 ent or email to let me know if you would like to join in.\nMy Email is: by
 fihandcrafts@gmail.com\n\nLet me know if you need more information\, or a
 ny help with ordering.\nFiona . . . Let’s Create!\n\n \n\n\nEvent link
 : https://stampinup.net/crm/events/143047
LAST-MODIFIED:20220321T233028
LOCATION:Zoom Online
ORGANIZER;CN=Fiona Fernandez:mailto:Byfihandcrafts@gmail.com
SUMMARY:Card making class - Online
URL;VALUE=URI:https://stampinup.net/crm/events/143047
END:VEVENT
END:VCALENDAR
