BEGIN:VCALENDAR
VERSION:2.0
PRODID:icalendar-ruby
CALSCALE:GREGORIAN
METHOD:PUBLISH
BEGIN:VEVENT
DTSTAMP:20260422T084120Z
UID:event-142390@stampinup.net
DTSTART;TZID=America/New_York:20220217T130000
DTEND;TZID=America/New_York:20220217T150000
CREATED:20220206T061236
DESCRIPTION:Card Class\nWe will make 3 cards using the products from the cu
 rrent Stampin Up catalogs.  The cost is $20 but free with a minimum order
 . The only thing you need to bring is your favorite adhesive.  Everything
  else is provided.  \n\nEvent link: https://stampinup.net/crm/events/142
 390
LAST-MODIFIED:20220206T061236
LOCATION:My home\, Hendersonville
ORGANIZER;CN=Diane Gardner:mailto:dggard@bellsouth.net
SUMMARY:Stamping Class
URL;VALUE=URI:https://stampinup.net/crm/events/142390
END:VEVENT
END:VCALENDAR
