BEGIN:VCALENDAR
VERSION:2.0
PRODID:icalendar-ruby
CALSCALE:GREGORIAN
METHOD:PUBLISH
BEGIN:VEVENT
DTSTAMP:20260422T084120Z
UID:event-142387@stampinup.net
DTSTART;TZID=America/New_York:20220221T133000
DTEND;TZID=America/New_York:20220221T153000
CREATED:20220206T060858
DESCRIPTION:Card Class\nWe will make 3 cards using the products from the cu
 rrent Stampin Up catalogs.  The cost is $20 but free with a minimum order
 . The only thing you need to bring is your favorite adhesive.  Everything
  else is provided.  \n\nEvent link: https://stampinup.net/crm/events/142
 387
LAST-MODIFIED:20220206T060858
LOCATION:My home\, Hendersonville
ORGANIZER;CN=Diane Gardner:mailto:dggard@bellsouth.net
SUMMARY:Stamping Class
URL;VALUE=URI:https://stampinup.net/crm/events/142387
END:VEVENT
END:VCALENDAR
