BEGIN:VCALENDAR
VERSION:2.0
PRODID:icalendar-ruby
CALSCALE:GREGORIAN
METHOD:PUBLISH
BEGIN:VEVENT
DTSTAMP:20260421T221701Z
UID:event-14218@stampinup.net
DTSTART;TZID=Australia/Sydney:20191005T100000
DTEND;TZID=Australia/Sydney:20191005T160000
CREATED:20190928T065309
DESCRIPTION:Create 18 Christmas cards (6 each of 3 designs)\nClass cost $65
 \nAll supplies included\nLunch and afternoon tea supplied\nDeposit of $25 
 to be paid via Pay Pal\nhttps://www.facebook.com/events/355050095443784/\n
 \nEvent link: https://stampinup.net/crm/events/14218
LAST-MODIFIED:20190928T093937
LOCATION:Stamping Flair\, 22 Channel Crescent\, Blind Bight
ORGANIZER;CN=Rochelle Laird-Smith:mailto:rochelle@stampingflair.com
SUMMARY:All Day Christmas Workshop
URL;VALUE=URI:https://stampinup.net/crm/events/14218
END:VEVENT
END:VCALENDAR
