BEGIN:VCALENDAR
VERSION:2.0
PRODID:icalendar-ruby
CALSCALE:GREGORIAN
METHOD:PUBLISH
BEGIN:VEVENT
DTSTAMP:20260424T060536Z
UID:event-14110@stampinup.net
DTSTART;TZID=America/New_York:20191027T143000
DTEND;TZID=America/New_York:20191027T173000
CREATED:20190927T135501
DESCRIPTION:I’m partnering with my good friend (and fellow Demo) Heather 
 to offer a Holiday Stamp-A-Stack featuring these papers. I’m busy creati
 ng samples so we can pick the designs that you’ll get to make\, but I ca
 n say that so far I’m having great fun with the images on these papers.\
 n\nHere are the details for the class:\n- Fee: $35 (pre-paid to reserve y
 our spot)\n- Description: You will make 4 each of 4 different designs fea
 turing these papers\, for a total of 16 cards. The cards are designed for 
 quick assembly\, so this class is perfect for all levels of stampers.\n -
  Included: Prepared kits for all of the cards\, so you can focus on stamp
 ing and assembly\, the remainder of the Night Before Christmas DSP pack\,
  and envelopes for the 16 cards\n - You bring: Your favorite adhesive (
 lots of adhesive)\n- RSVP: October 11th to allow time for me to order and
  prepare the supplies\n\nEvent link: https://stampinup.net/crm/events/1411
 0
LAST-MODIFIED:20190927T135620
LOCATION:First Congregational Church\, 35 Main Street\, Essex Junction VT  
 05452
ORGANIZER;CN=Andrea Sharp:mailto:ANDREA.SHARP@GMAIL.COM
SUMMARY:Night Before Christmas Stamp-A-Stack
URL;VALUE=URI:https://stampinup.net/crm/events/14110
END:VEVENT
END:VCALENDAR
