BEGIN:VCALENDAR
VERSION:2.0
PRODID:icalendar-ruby
CALSCALE:GREGORIAN
METHOD:PUBLISH
BEGIN:VEVENT
DTSTAMP:20260422T061422Z
UID:event-140747@stampinup.net
DTSTART;TZID=America/New_York:20220803T140000
DTEND;TZID=America/New_York:20220803T150000
CREATED:20220126T102423
DESCRIPTION:Please join me while I share cards\, techniques\, stories &amp\
 ; news on my Suitably Stamped with Michelle Suit Facebook page.\n\nEvent l
 ink: https://stampinup.net/crm/events/140747
LAST-MODIFIED:20220530T103421
ORGANIZER;CN=Michelle Suit:mailto:shellsuit@verizon.net
SUMMARY:Facebook Live 
URL;VALUE=URI:https://stampinup.net/crm/events/140747
END:VEVENT
END:VCALENDAR
