BEGIN:VCALENDAR
VERSION:2.0
PRODID:icalendar-ruby
CALSCALE:GREGORIAN
METHOD:PUBLISH
BEGIN:VEVENT
DTSTAMP:20260422T003636Z
UID:event-14005@stampinup.net
DTSTART;TZID=Europe/London:20191213T193000
DTEND;TZID=Europe/London:20191213T213000
CREATED:20190927T081151
DESCRIPTION:Please join me to make this beautiful star decoration. Only FIV
 E places available as I only have five stars!\n£18 class only. Add the Pe
 aceful Boughs Bundle or the Beautiful Boughs dies at special discounted pr
 ices.\nMore information and booking here. \n\nEvent link: https://stampinu
 p.net/crm/events/14005
LAST-MODIFIED:20190927T081613
LOCATION:Helen's House\, near Ripley\, Derbyshire
ORGANIZER;CN=Helen Read:mailto:allthingsstampy@gmail.com
SUMMARY:Hygge Night - Festive Star Decoration
URL;VALUE=URI:https://stampinup.net/crm/events/14005
END:VEVENT
END:VCALENDAR
