BEGIN:VCALENDAR
VERSION:2.0
PRODID:icalendar-ruby
CALSCALE:GREGORIAN
METHOD:PUBLISH
BEGIN:VEVENT
DTSTAMP:20260419T121642Z
UID:event-139840@stampinup.net
DTSTART;TZID=America/New_York:20220215T183000
DTEND;TZID=America/New_York:20220215T203000
CREATED:20220120T204426
DESCRIPTION:This monthly class will teach different stamping techniques Eac
 h month you will receive Stampin' Up! product needed to complete the techn
 ique taught that month. This class can also be a class by mail-you will re
 ceive the products in the mail and be given a video link to see the techni
 que. \n***2 options***\n1) Club option: $25/month Commit to 12 classes\, 
 you will receive an album to hold instructions for each technique. If you 
 cannot attend a class\, you will be billed for that month\, and product wi
 ll be sent to you along with video link. (Add $8 for Shipping)\n****Sign u
 p deadline Friday February 4\, 2022****\n2) Month to Month option: $35 per
  class. Can't commit to 12 classes? Come to the classes you can. \n****Si
 gn Up Deadline Friday February 4 for February Class\, and 1st Friday of th
 e month for each class**** (I will try to send out reminders each month\,
  watch the South Georgia Stampers FB group and my business page\, Nina's S
 outhern Accents)\n \n\nEvent link: https://stampinup.net/crm/events/13984
 0
LAST-MODIFIED:20220218T050901
LOCATION:My Home or By Mail\, 718 Harrell Mill Rd
ORGANIZER;CN=Nina McMillan:mailto:ninassouthernaccents@gmail.com
SUMMARY:Technique Tuesday
URL;VALUE=URI:https://stampinup.net/crm/events/139840
END:VEVENT
END:VCALENDAR
