BEGIN:VCALENDAR
VERSION:2.0
PRODID:icalendar-ruby
CALSCALE:GREGORIAN
METHOD:PUBLISH
BEGIN:VEVENT
DTSTAMP:20260419T192015Z
UID:event-139836@stampinup.net
DTSTART;TZID=America/New_York:20220207T183000
DTEND;TZID=America/New_York:20220207T200000
CREATED:20220120T201649
DESCRIPTION:3 cards/$12 ($14 if you use my adhesive)\nThis monthly class is
  perfect for beginner stampers or busy people that love to craft but don't
  have alot of spare time. \n\nEvent link: https://stampinup.net/crm/event
 s/139836
LAST-MODIFIED:20220120T201649
LOCATION:My Home\, 718 Harrell Mill Rd
ORGANIZER;CN=Nina McMillan:mailto:ninassouthernaccents@gmail.com
SUMMARY:Sweet and Simple Card Class
URL;VALUE=URI:https://stampinup.net/crm/events/139836
END:VEVENT
END:VCALENDAR
