BEGIN:VCALENDAR
VERSION:2.0
PRODID:icalendar-ruby
CALSCALE:GREGORIAN
METHOD:PUBLISH
BEGIN:VEVENT
DTSTAMP:20260420T044749Z
UID:event-137783@stampinup.net
DTSTART;TZID=America/New_York:20220501T143000
DTEND;TZID=America/New_York:20220501T163000
CREATED:20220106T201828
DESCRIPTION:\n\nEvent link: https://stampinup.net/crm/events/137783
LAST-MODIFIED:20220106T201828
ORGANIZER;CN=Jennifer Hill:mailto:jennifer@onecraftysister.com
SUMMARY:The CRAFTastics Team Meeting
URL;VALUE=URI:https://stampinup.net/crm/events/137783
END:VEVENT
END:VCALENDAR
