BEGIN:VCALENDAR
VERSION:2.0
PRODID:icalendar-ruby
CALSCALE:GREGORIAN
METHOD:PUBLISH
BEGIN:VEVENT
DTSTAMP:20260426T002514Z
UID:event-137770@stampinup.net
DTSTART;TZID=America/New_York:20220129T130000
DTEND;TZID=America/New_York:20220129T150000
CREATED:20220106T200703
DESCRIPTION:A once monthly class that is just cards!  Make 8 cards (2 each
  of 4 designs) designed around one stamp set or bundle.  The class is off
 ered In Person\, in Gainesville\, Florida\, or shipped directly to you.  
 For all the details and options\, click the link below:\n\nOne Crafty Sist
 er Card Club\n\nEvent link: https://stampinup.net/crm/events/137770
LAST-MODIFIED:20220106T200703
LOCATION:One Crafty Sister Studio\, Gainesville\, FL 
ORGANIZER;CN=Jennifer Hill:mailto:jennifer@onecraftysister.com
SUMMARY:One Crafty Sister Card Club
URL;VALUE=URI:https://stampinup.net/crm/events/137770
RRULE:FREQ=MONTHLY;BYDAY=5SA
END:VEVENT
END:VCALENDAR
