BEGIN:VCALENDAR
VERSION:2.0
PRODID:icalendar-ruby
CALSCALE:GREGORIAN
METHOD:PUBLISH
BEGIN:VEVENT
DTSTAMP:20260422T212852Z
UID:event-13701@stampinup.net
DTSTART;TZID=America/New_York:20200612T130000
DTEND;TZID=America/New_York:20200612T150000
CREATED:20190926T131101
DESCRIPTION:Simple Beautiful Card Class (it’s a club\, too!)  \n\nMake 
 4 fabulous Simple Beautiful All-Occasion cards for $20\, or the class is F
 REE with an order!  You could brighten someone's day by sending them a ha
 nd-made card or give a stack of them as a gift to someone for a special oc
 casion this year!!\n\nDo you LOVE free stuff?? Join the Simple Beautiful C
 ard Club (just say you’ll come to class the 2nd Wednesday of each month 
 or the following Friday)\, and you’ll automatically receive at least $30
  in FREE product the month you’re the host!!\n\n*****STAMP WITH A FRIEND
 !!*****  \nBring a NEW GUEST to class\, and you BOTH get to pick 4 free 
 cards off the card rack!! That's a $16 value for each of you!!  If they 
 decide to JOIN the club\, you get a FREE stamp set (valued up to $15!) fro
 m me!!\n\nAnd.... don't forget to mark your calendars! These classes will 
 be on a set schedule going forward - the 2nd Wednesday of every month and 
 the following Friday. \n \nDon't forget your scissors and adhesive!  
      \n\nPlease RSVP by the Tuesday (or Thursday) prior to class.\n 
 \nNOTE THAT THIS WEBSITE SOMETIMES HAS AN INCORRECT FRIDAY DATE FOR THIS C
 LASS.  THE FRIDAY CARD CLASS IS ALWAYS THE FRIDAY AFTER THE 2ND WEDNESDAY
  OF THE MONTH'S SIMPLE BEAUTIFUL CARD CLASS (THIS CLASS NEVER HAPPENS BEFO
 RE THE WEDNESDAY CLASS).  HOPE THIS MAKES SENSE!!\n\n\nEvent link: https:
 //stampinup.net/crm/events/13701
LAST-MODIFIED:20201216T131659
LOCATION:Gathering Inkspiration Stamp Studio\, 209 E Superior St   Alma\, M
 I  48801
ORGANIZER;CN=Amy Frillici:mailto:amy.frillici@yahoo.com
SUMMARY:Simple Beautiful Card Class/Club 
URL;VALUE=URI:https://stampinup.net/crm/events/13701
END:VEVENT
END:VCALENDAR
