BEGIN:VCALENDAR
VERSION:2.0
PRODID:icalendar-ruby
CALSCALE:GREGORIAN
METHOD:PUBLISH
BEGIN:VEVENT
DTSTAMP:20260421T231314Z
UID:event-13674@stampinup.net
DTSTART;TZID=America/New_York:20191012T090000
DTEND;TZID=America/New_York:20191012T170000
CREATED:20190926T122622
DESCRIPTION:Creative Escape Crafter’s Getaway Day\nSaturday\, October 12t
 h\n9am – 5pm\n\nYour $80 Registration Fee Includes:\n“Goody” bag wit
 h $50+ in brand new Stampin’ Up! product\n“Pillow” Gifts\n6’ x 3
 ’ crafting space\nMake &amp\; Take Class Projects\nBottled Water\nAccess
  to my stamps &amp\; tools - including a Big Shot station with framelits\n
 Lunch\nPrizes!\n8 hours of uninterrupted crafting time\nOn site Stampin’
  Up! store\nFun!\n\nMy Crafter’s Getaway Day is the perfect opportunity 
 to work on those projects you’ve been meaning to start or need to finish
 !  Come let me spoil and surprise you all day!\n\nReserve your seat/To-Go
  Kit today with a $30 deposit http://bit.ly/FallCraftDayMinimumDeposit1 by
  September 8th.  Make a $50 deposit http://bit.ly/FallCraftDaySpecialDepo
 sit or pay in full http://bit.ly/FallCraftDayPaymentInFull1 by August 31st
  and earn a space on the 50/$50 prize board &amp\; earn 1 Heart Reward poi
 nt.\n\nRegistration with complete $80 payment is due September 28th.  \n\
 nRefer a friend who is new to stamping with me and receive a $5 shopping c
 redit.\n\nDownload the Registration Form here.\nQuestions?  Please Contac
 t:\nJessica Brigden\n(607)227-9381 or  jessb@creativecardiology.com\n\nEv
 ent link: https://stampinup.net/crm/events/13674
LAST-MODIFIED:20190926T122622
LOCATION:Lansing Community Center\, 29 Auburn Rd\, Lansing\, NY 14882
ORGANIZER;CN=Jessica Brigden:mailto:jlbrigden@hotmail.com
SUMMARY:Creative Escape Crafter's Getaway Day
URL;VALUE=URI:https://stampinup.net/crm/events/13674
END:VEVENT
END:VCALENDAR
