BEGIN:VCALENDAR
VERSION:2.0
PRODID:icalendar-ruby
CALSCALE:GREGORIAN
METHOD:PUBLISH
BEGIN:VEVENT
DTSTAMP:20260423T085058Z
UID:event-13656@stampinup.net
DTSTART;TZID=America/Los_Angeles:20191016T183000
DTEND;TZID=America/Los_Angeles:20191016T203000
CREATED:20190926T115948
DESCRIPTION:Whether you are currently subscibed or a past subscriber to Pap
 er Pumpkin and you'd like to dedicate time to starting or completing a kit
 \, then come on over. It's an excellent opportunity to craft with others a
 nd share alternate uses of the kit supplies. Bring your Paper Pumpkin box 
 and your tool kit. This event is complimentary.\n\nEvent link: https://st
 ampinup.net/crm/events/13656
LAST-MODIFIED:20190926T170111
ORGANIZER;CN=Erica Edney:mailto:ericajedney@gmail.com
SUMMARY:Paper Pumpkin Kit Night
URL;VALUE=URI:https://stampinup.net/crm/events/13656
END:VEVENT
END:VCALENDAR
