BEGIN:VCALENDAR
VERSION:2.0
PRODID:icalendar-ruby
CALSCALE:GREGORIAN
METHOD:PUBLISH
BEGIN:VEVENT
DTSTAMP:20260420T164420Z
UID:event-136436@stampinup.net
DTSTART;TZID=America/New_York:20220126T133000
DTEND;TZID=America/New_York:20220126T153000
CREATED:20220102T102214
DESCRIPTION:Card Class\nWe will make 3 cards using the products from the cu
 rrent Stampin Up catalogs.  The cost is $20 but free with a minimum order
 . The only thing you need to bring is your favorite adhesive.  Everything
  else is provided.  \n\nEvent link: https://stampinup.net/crm/events/136
 436
LAST-MODIFIED:20220122T061353
LOCATION:My home\, Hendersonville
ORGANIZER;CN=Diane Gardner:mailto:dggard@bellsouth.net
SUMMARY:Stamping Class
URL;VALUE=URI:https://stampinup.net/crm/events/136436
END:VEVENT
END:VCALENDAR
