BEGIN:VCALENDAR
VERSION:2.0
PRODID:icalendar-ruby
CALSCALE:GREGORIAN
METHOD:PUBLISH
BEGIN:VEVENT
DTSTAMP:20260420T165114Z
UID:event-136435@stampinup.net
DTSTART;TZID=America/New_York:20220124T183000
DTEND;TZID=America/New_York:20220124T203000
CREATED:20220102T102115
DESCRIPTION:Card Class\nWe will make 3 cards using the products from the cu
 rrent Stampin Up catalogs.  The cost is $20 but free with a minimum order
 . The only thing you need to bring is your favorite adhesive.  Everything
  else is provided.  \n\nEvent link: https://stampinup.net/crm/events/136
 435
LAST-MODIFIED:20220122T061211
LOCATION:My home\, Hendersonville
ORGANIZER;CN=Diane Gardner:mailto:dggard@bellsouth.net
SUMMARY:Stamping Class
URL;VALUE=URI:https://stampinup.net/crm/events/136435
END:VEVENT
END:VCALENDAR
