BEGIN:VCALENDAR
VERSION:2.0
PRODID:icalendar-ruby
CALSCALE:GREGORIAN
METHOD:PUBLISH
BEGIN:VEVENT
DTSTAMP:20260424T181837Z
UID:event-135925@stampinup.net
DTSTART;TZID=America/Denver:20220111T200000
DTEND;TZID=America/Denver:20220111T210000
CREATED:20211231T113835
DESCRIPTION:Online training to help you to be the best demonstrator you can
  be!  All team members are welcome!\nRegister here.\n\nEvent link: https:
 //stampinup.net/crm/events/135925
LAST-MODIFIED:20211231T113835
LOCATION:Zoom Classroom
ORGANIZER;CN=Marilyn Wagner:mailto:marilyn.wagner@shaw.ca
SUMMARY:Team Training Chat
URL;VALUE=URI:https://stampinup.net/crm/events/135925
END:VEVENT
END:VCALENDAR
