BEGIN:VCALENDAR
VERSION:2.0
PRODID:icalendar-ruby
CALSCALE:GREGORIAN
METHOD:PUBLISH
BEGIN:VEVENT
DTSTAMP:20260421T121016Z
UID:event-1359@stampinup.net
DTSTART;VALUE=DATE:20220815
DTEND;VALUE=DATE:20220815
CREATED:20190911T100212
DESCRIPTION:Be sure to check out this month's ONLINE ORDER/HOST code before
  you place an online order. You can earn rewards just for placing your ord
 ers.\n\nSee this month's CODE here.\n\nSee more about  Stamp with Jenn re
 wards HERE. \n\n\nEvent link: https://stampinup.net/crm/events/1359
LAST-MODIFIED:20190911T100930
ORGANIZER;CN=Jenn Tinline:mailto:fun@stampwithjenn.com
SUMMARY:Online Ordering Rewards
URL;VALUE=URI:https://stampinup.net/crm/events/1359
END:VEVENT
END:VCALENDAR
