BEGIN:VCALENDAR
VERSION:2.0
PRODID:icalendar-ruby
CALSCALE:GREGORIAN
METHOD:PUBLISH
BEGIN:VEVENT
DTSTAMP:20260426T015643Z
UID:event-135206@stampinup.net
DTSTART;TZID=America/New_York:20220512T100000
DTEND;TZID=America/New_York:20220512T210000
CREATED:20211227T104941
DESCRIPTION:Creative Card Class - this is ideal for all levels of crafters 
 (beginner\, casual and avid). You are always welcome!\n\nDuring Creative C
 ard Class\, I concentrate on one stamp set/bundle and we create 4 beautifu
 l cards with that set\, including envelopes.\n\nTime: 10am\, 1:00pm or 6:3
 0pm - take your pick. \nWhere: 1473 West US Highway 10-31\, Scottville MI
 \nCost: $25 or FREE with a min order during class! Yay!\n\nContact me: 231
  690 0900\nEmail: dawn@dawnscreativechalet.com\n\nPlease RSVP to me no lat
 er than 5/9/22 with pre payment of $25. When you place an order with me du
 ring class\, I will subtract the $25 from the order. \n\nIf you cancel\, 
 the class will be "to go". Thank you for understanding.\n\nPlease bring ad
 hesive and a smile and be ready to have fun and make new friends! \n\n**B
 ring someone new to me\, to class (rsvp in advance( and you both will rece
 ive a gift from me\, personally.**\n\n\n\n\n \n\nEvent link: https://stam
 pinup.net/crm/events/135206
LAST-MODIFIED:20211227T104941
LOCATION:1473 West US Highway 10-31\, Scottville Michigan 49454
ORGANIZER;CN=Dawn Bourgette:mailto:dawn@dawnscreativechalet.com
SUMMARY:Creative Card Class
URL;VALUE=URI:https://stampinup.net/crm/events/135206
END:VEVENT
END:VCALENDAR
