BEGIN:VCALENDAR
VERSION:2.0
PRODID:icalendar-ruby
CALSCALE:GREGORIAN
METHOD:PUBLISH
BEGIN:VEVENT
DTSTAMP:20260426T002016Z
UID:event-1347@stampinup.net
DTSTART;TZID=America/New_York:20190918T180000
DTEND;TZID=America/New_York:20190918T203000
CREATED:20190911T095952
DESCRIPTION:Join my Monthly Card Class were we'll make at least 8 cards!\nC
 ost $20 or FREE with an order place using Class Host Code!\nContact me for
  more information or to sign up!\n\nEvent link: https://stampinup.net/crm/
 events/1347
LAST-MODIFIED:20190911T095952
LOCATION:Andover\, MA\, 34 Lincoln St.
ORGANIZER;CN=Donna Singleton:mailto:donnasingleton33@yahoo.com
SUMMARY:Monthly Card Class - 2
URL;VALUE=URI:https://stampinup.net/crm/events/1347
END:VEVENT
END:VCALENDAR
