BEGIN:VCALENDAR
VERSION:2.0
PRODID:icalendar-ruby
CALSCALE:GREGORIAN
METHOD:PUBLISH
BEGIN:VEVENT
DTSTAMP:20260424T174339Z
UID:event-134056@stampinup.net
DTSTART;TZID=America/Chicago:20220616T103000
DTEND;TZID=America/Chicago:20220616T130000
CREATED:20211209T114641
DESCRIPTION:Monthly  Stamp Clubs: This is a monthly event that runs for 6 
 months consecutively.  Each member is a hostess and receives the hostess 
 benefits.  We make 2-3 projects each month with your $30 order.  This is
  a great class if you are looking for new techniques\, idea\, or more embe
 llishments to your projects. New members receive a board book to keep a sa
 mple and instructions of the technique handy.\n\n**Please have your orders
  ready by the dates below.  If you are unsure of your day\, just confirm 
 with me. Use the host code or I can enter\, and it ships here. \n\n\nEvent
  link: https://stampinup.net/crm/events/134056
LAST-MODIFIED:20211209T114641
LOCATION:My House\, 4108 Katy Court
ORGANIZER;CN=Laura Venvertloh:mailto:laurascreativecorner2007@gmail.com
SUMMARY:Thursday Morning Stamp Club
URL;VALUE=URI:https://stampinup.net/crm/events/134056
END:VEVENT
END:VCALENDAR
