BEGIN:VCALENDAR
VERSION:2.0
PRODID:icalendar-ruby
CALSCALE:GREGORIAN
METHOD:PUBLISH
BEGIN:VEVENT
DTSTAMP:20260423T014932Z
UID:event-133858@stampinup.net
DTSTART;TZID=Europe/Berlin:20231205T050000
DTEND;TZID=Europe/Berlin:20231205T180000
CREATED:20211208T031301
DESCRIPTION:Es ist Zeit für eine neue Bestellung!\nBist du dabei?\nSchreib
  mir oder ruf mich an oder bestelle einfach direkt über den Shop.\nDer ak
 tuelle Host-Code für Bestellungen unter 200 € lautet: https://www.stam
 pinup.de/?hostcode=6QRVGGYH\n\nIm Shop siehst du auch\, was genau du gerad
 e bestellen kannst\, weil es verfügbar ist.\n\nEvent link: https://stampi
 nup.net/crm/events/133858
LAST-MODIFIED:20250425T083714
LOCATION:derdiedasKleine bastelt\, Wulfeskuhle 13\, 33104 Paderborn
ORGANIZER;CN=Simone Kleine:mailto:Simone@derdiedasKleine.de
SUMMARY:Sammelbestellung
URL;VALUE=URI:https://stampinup.net/crm/events/133858
END:VEVENT
END:VCALENDAR
