BEGIN:VCALENDAR
VERSION:2.0
PRODID:icalendar-ruby
CALSCALE:GREGORIAN
METHOD:PUBLISH
BEGIN:VEVENT
DTSTAMP:20260422T114329Z
UID:event-133533@stampinup.net
DTSTART;VALUE=DATE:20211213
DTEND;VALUE=DATE:20211213
CREATED:20211205T095631
DESCRIPTION:Do you love to craft and are you looking for a kit that ships d
 irectly to you each month with special perks each month? Then you will LOV
 E “YOUR CREATIVITY AWAITS”!  \n\nWith “Your Creativity Awaits”\,
  each month you will receive an exclusive make and take kit (2 cards of 4 
 designs) plus a PDF Tutorial.  All for only $57 per month shipped direc
 tly to you or $53 local pick up.\n\nEach month\, the Design Team will cho
 ose one stamp set or bundle and design fun projects for you to create.  
 The stampset is included in your kit. If you don't already own the dies or
  punch\, you may add it to your kit or use what you have. \n\nAs a member
  of Your Creativity Awaits\, each month you'll enjoy the following:\n• F
 eatured stamp set\n\n• 8 Cards (2 each of 4 different designs) - designe
 d by Your Creativity Awaits Team\n\n• Exclusive Project tutorials you ca
 n follow along with to create your cards\n\n• Extra product (value will 
 depend on the price of the stamp set)\n\nJanuary Kit includes Ranunculus R
 omance Stamp Set (from the January to June Mini Catalogue)\nAdd on dies fo
 r $49 extra\n\nDeadline to sign up for the January Kit is January 9\, 2022
 \n\n\nEvent link: https://stampinup.net/crm/events/133533
LAST-MODIFIED:20211205T095750
ORGANIZER;CN=Melva Peters:mailto:stampinwithmelva@gmail.com
SUMMARY:Your Creativity Awaits - January Kit - Registration Opens
URL;VALUE=URI:https://stampinup.net/crm/events/133533
END:VEVENT
END:VCALENDAR
