BEGIN:VCALENDAR
VERSION:2.0
PRODID:icalendar-ruby
CALSCALE:GREGORIAN
METHOD:PUBLISH
BEGIN:VEVENT
DTSTAMP:20260422T182706Z
UID:event-133502@stampinup.net
DTSTART;VALUE=DATE:20220101
DTEND;VALUE=DATE:20220101
CREATED:20211205T070717
DESCRIPTION:\n\nEvent link: https://stampinup.net/crm/events/133502
LAST-MODIFIED:20211205T070717
ORGANIZER;CN=Leigh Amburgey:mailto:themaidmom@att.net
SUMMARY:Happy New Year's
URL;VALUE=URI:https://stampinup.net/crm/events/133502
END:VEVENT
END:VCALENDAR
