BEGIN:VCALENDAR
VERSION:2.0
PRODID:icalendar-ruby
CALSCALE:GREGORIAN
METHOD:PUBLISH
BEGIN:VEVENT
DTSTAMP:20260424T014706Z
UID:event-133498@stampinup.net
DTSTART;VALUE=DATE:20220104
DTEND;VALUE=DATE:20220104
CREATED:20211205T070316
DESCRIPTION:Slae-a-Bration Begins \n\nEvent link: https://stampinup.net/cr
 m/events/133498
LAST-MODIFIED:20211205T070316
ORGANIZER;CN=Leigh Amburgey:mailto:themaidmom@att.net
SUMMARY:Sale-a-Bration
URL;VALUE=URI:https://stampinup.net/crm/events/133498
END:VEVENT
END:VCALENDAR
