BEGIN:VCALENDAR
VERSION:2.0
PRODID:icalendar-ruby
CALSCALE:GREGORIAN
METHOD:PUBLISH
BEGIN:VEVENT
DTSTAMP:20260423T043321Z
UID:event-133494@stampinup.net
DTSTART;TZID=America/New_York:20220108T120000
DTEND;TZID=America/New_York:20220108T140000
CREATED:20211205T060825
DESCRIPTION:Technique Card Class\nSaturday\, January 8th\nNoon - 2:00 PM\n$
 18.00\nTechnique Class features (3) different stamping techniques.  Janua
 ry class will feature shimmery faux silk\, gold leaf with tear &amp\; tape
  and string and block stamping.  You'll make a card featuring each techni
 que and also a direction sheet that included a sample for each technique.
   Please bring your own adhesive to class.\nClass fee due by December 28t
 h to be registered for class\n\nEvent link: https://stampinup.net/crm/even
 ts/133494
LAST-MODIFIED:20211205T060825
LOCATION:Mentor\, OH\, 7239 Reynolds Road
ORGANIZER;CN=Leigh Amburgey:mailto:themaidmom@att.net
SUMMARY:Technique Class
URL;VALUE=URI:https://stampinup.net/crm/events/133494
END:VEVENT
END:VCALENDAR
