BEGIN:VCALENDAR
VERSION:2.0
PRODID:icalendar-ruby
CALSCALE:GREGORIAN
METHOD:PUBLISH
BEGIN:VEVENT
DTSTAMP:20260423T222745Z
UID:event-133484@stampinup.net
DTSTART;TZID=America/Chicago:20220115T100000
DTEND;TZID=America/Chicago:20220115T120000
CREATED:20211204T204700
DESCRIPTION:Join me as we make 5 unique cards with lots of BRAND NEW stamp 
 sets and papers! \nAll prepared supplies plus envelopes\n$20 or free with
  a $25 order\nStamping fun with awesome ladies!\nClick here to register.\n
 \nEvent link: https://stampinup.net/crm/events/133484
LAST-MODIFIED:20220112T112953
LOCATION:Tower City Church\, 11220 Perrin Beitel\, 78217
ORGANIZER;CN=Candy Rattray:mailto:crattray@sbcglobal.net
SUMMARY:Card Class
URL;VALUE=URI:https://stampinup.net/crm/events/133484
END:VEVENT
END:VCALENDAR
