BEGIN:VCALENDAR
VERSION:2.0
PRODID:icalendar-ruby
CALSCALE:GREGORIAN
METHOD:PUBLISH
BEGIN:VEVENT
DTSTAMP:20260423T131052Z
UID:event-132233@stampinup.net
DTSTART;TZID=America/Denver:20220123T140000
DTEND;TZID=America/Denver:20220123T160000
CREATED:20211124T075358
DESCRIPTION:Come and play with some of the new Sale-a-bration items!!  We'
 ll make a variety of cards:  2 each of 6 designs for a total of 12 cards!
   Envelopes included!!\n\nSpace is limited!  Due to the rising numbers o
 f Covid Cases\, I am keeping classes to a smaller number.  I will only ha
 ve 4  to a table\, and masks are required.\n\nCost is $30 per person\n\nB
 ring your favorite adhesive--all other supplies will be provided!!\n\nEven
 t link: https://stampinup.net/crm/events/132233
LAST-MODIFIED:20220115T072940
LOCATION:Tammy's Stamp Studio\, 6115 Medford Ct NW
ORGANIZER;CN=Tammy Fite:mailto:stampwithtammy@gmail.com
SUMMARY:Sale-a-brate!!  Stamp-a-Stack!
URL;VALUE=URI:https://stampinup.net/crm/events/132233
END:VEVENT
END:VCALENDAR
