BEGIN:VCALENDAR
VERSION:2.0
PRODID:icalendar-ruby
CALSCALE:GREGORIAN
METHOD:PUBLISH
BEGIN:VEVENT
DTSTAMP:20260421T140049Z
UID:event-131745@stampinup.net
DTSTART;VALUE=DATE:20220810
DTEND;VALUE=DATE:20220810
CREATED:20211119T071342
DESCRIPTION:Don't miss out on this month's kit! Sign up by the 10th at 11:5
 9pm MT and you will receive this month's kit in your mail. Contact me for 
 more details.\n\nEvent link: https://stampinup.net/crm/events/131745
LAST-MODIFIED:20211119T071342
ORGANIZER;CN=Julie Davidse:mailto:stampinjul@outlook.com
SUMMARY:Last day to sign up for this month's Paper Pumpkin!
URL;VALUE=URI:https://stampinup.net/crm/events/131745
END:VEVENT
END:VCALENDAR
