BEGIN:VCALENDAR
VERSION:2.0
PRODID:icalendar-ruby
CALSCALE:GREGORIAN
METHOD:PUBLISH
BEGIN:VEVENT
DTSTAMP:20260421T101809Z
UID:event-131660@stampinup.net
DTSTART;TZID=America/Chicago:20211209T093000
DTEND;TZID=America/Chicago:20211209T113000
CREATED:20211118T052006
DESCRIPTION:Come make a card and enjoy some tea and cookies. No charge for 
 this event.\n\nEvent link: https://stampinup.net/crm/events/131660
LAST-MODIFIED:20211207T085350
LOCATION:The Roost\, 3025 Vega Ave\, Mayer\, MN 55360
ORGANIZER;CN=Robyn Rasset:mailto:rrasset@frontier.com
SUMMARY:Christmas Tea
URL;VALUE=URI:https://stampinup.net/crm/events/131660
END:VEVENT
END:VCALENDAR
