BEGIN:VCALENDAR
VERSION:2.0
PRODID:icalendar-ruby
CALSCALE:GREGORIAN
METHOD:PUBLISH
BEGIN:VEVENT
DTSTAMP:20260421T100028Z
UID:event-131440@stampinup.net
DTSTART;TZID=America/New_York:20211119T183000
DTEND;TZID=America/New_York:20211119T213000
CREATED:20211116T072513
DESCRIPTION:Join us as we Create 20 stunning handmade cards in one fun even
 ing!\n\nWith five designs\, creating four of each\, you will enjoy a fun l
 adies night out and come home with a delicious hot cocoa bar and time of c
 reating and connecting.  $40 or SAVE $25 with a minimum order.\n\nThis cl
 ass is available as an online option even!  Only $25 with the purchase of
  this Bundle includes shipping!\n\n\nEvent link: https://stampinup.net/crm
 /events/131440
LAST-MODIFIED:20211116T082326
LOCATION:Getting Crafty Home Studio\, 201 W Morse St.  Markle\, IN 46770
ORGANIZER;CN=Jamie Albanese:mailto:jla_jar@msn.com
SUMMARY:Whimsical Trees 20 Card Class
URL;VALUE=URI:https://stampinup.net/crm/events/131440
END:VEVENT
END:VCALENDAR
