BEGIN:VCALENDAR
VERSION:2.0
PRODID:icalendar-ruby
CALSCALE:GREGORIAN
METHOD:PUBLISH
BEGIN:VEVENT
DTSTAMP:20260422T095549Z
UID:event-129503@stampinup.net
DTSTART;TZID=America/New_York:20220115T100000
DTEND;TZID=America/New_York:20220115T150000
CREATED:20211103T064255
DESCRIPTION:Do you want the perfect January 'virtual' get away?\nJoin me fo
 r our Annual Winter Stamp Camp!\nThis event will be online- so create in t
 he comfort of your home- maybe sitting by the fire?\n\nWe will be making 1
 4 cards using products from the new January - June Mini catalogue! (Valent
 ines\, Thank you\, Birthday\, Sympathy)\n\nClass Includes:\n\nAll material
 s prepped and ready (you stamp the sentiments)\nEnvelopes\n$30 worth of ne
 w products\nHot Chocolate\nA cute Stamp Camp bag\nPDF Tutorial &amp\; Vide
 o\nPrivate FB Group\n\nINVESTMENT:\n$75   Before Dec. 15th \n$85   Af
 ter Dec. 15th\n\nPinery Paperpals Team Members: $40\n\nPayment via EMT or 
 a paypal invoice (I'll email you after I receive your registration)\n\nInv
 ite a friend who has never stamped with me before and receive a FREE embel
 lishment from the new catalogue!\n\nSpaces are limited! RSVP right away!\n
 \nThis would be the perfect Christmas gift!\n\nEvent link: https://stampin
 up.net/crm/events/129503
LAST-MODIFIED:20211205T114251
LOCATION:Class-to-Go\, Online Event
ORGANIZER;CN=MaryAnne Cowan:mailto:maryannecowan@gmail.com
SUMMARY:Winter Stamp Camp
URL;VALUE=URI:https://stampinup.net/crm/events/129503
END:VEVENT
END:VCALENDAR
