BEGIN:VCALENDAR
VERSION:2.0
PRODID:icalendar-ruby
CALSCALE:GREGORIAN
METHOD:PUBLISH
BEGIN:VEVENT
DTSTAMP:20260419T235025Z
UID:event-1289@stampinup.net
DTSTART;TZID=America/Chicago:20190910T183000
DTEND;TZID=America/Chicago:20190910T203000
CREATED:20190911T093602
DESCRIPTION:Come enjoy a relaxing evening creating with friends! You'll mak
 e 8 cards. All supplies and directions provided - all you need to do is ha
 ve fun!\nCost: $15.00 or free with a $25.00 order\nRSVP by Monday.\n\nEv
 ent link: https://stampinup.net/crm/events/1289
LAST-MODIFIED:20190911T095419
LOCATION:Glenwood Chamber Community Room\, 7 First St NW
ORGANIZER;CN=Ellen Boyle:mailto:ellenbstamps@hotmail.com
SUMMARY:Cards Night!
URL;VALUE=URI:https://stampinup.net/crm/events/1289
END:VEVENT
END:VCALENDAR
