BEGIN:VCALENDAR
VERSION:2.0
PRODID:icalendar-ruby
CALSCALE:GREGORIAN
METHOD:PUBLISH
BEGIN:VEVENT
DTSTAMP:20260422T050643Z
UID:event-12850@stampinup.net
DTSTART;TZID=America/Denver:20191012T113000
DTEND;TZID=America/Denver:20191012T123000
CREATED:20190924T131015
DESCRIPTION:This training is for team members who want to "do the business"
  of stamping.  No back-seat-driving!  These are working sessions that wi
 ll help ou identify and achieve your goals!\n\nEvent link: https://stampin
 up.net/crm/events/12850
LAST-MODIFIED:20190924T131015
LOCATION:Private Residence - Tamara's House\, 10623 - 181 Avenue NW\, Edmon
 ton\, AB
ORGANIZER;CN=Tamara Bertram:mailto:bertram4@shaw.ca
SUMMARY:October Trailblazing Business Builders Meeting
URL;VALUE=URI:https://stampinup.net/crm/events/12850
END:VEVENT
END:VCALENDAR
