BEGIN:VCALENDAR
VERSION:2.0
PRODID:icalendar-ruby
CALSCALE:GREGORIAN
METHOD:PUBLISH
BEGIN:VEVENT
DTSTAMP:20260423T014429Z
UID:event-12842@stampinup.net
DTSTART;TZID=America/Denver:20191029T190000
DTEND;TZID=America/Denver:20191029T200000
CREATED:20190924T125329
DESCRIPTION:Pop on over to my business Facebook Page "Tamara's Paper Trail"
  and catch my LIVE video called "Check It Out Tuesday".  You never know w
 hat you'll get (heck\, it's usually a surprise to me too until 5 minutes b
 efore I go live! lol) but rest assured it will NOT be a stuffy\, polished\
 , professional gig!  I will stream live for about an hour (give or take t
 he 5-10 minutes to try to get the phone orientation right! lol) showing yo
 u products\, projects\, techniques ... anything goes!  I hop you "check i
 t out"!\n\nEvent link: https://stampinup.net/crm/events/12842
LAST-MODIFIED:20190924T125329
LOCATION:Comfort of your own home ...\, ... in front of your computer
ORGANIZER;CN=Tamara Bertram:mailto:bertram4@shaw.ca
SUMMARY:Check It Out Tuesday
URL;VALUE=URI:https://stampinup.net/crm/events/12842
END:VEVENT
END:VCALENDAR
