BEGIN:VCALENDAR
VERSION:2.0
PRODID:icalendar-ruby
CALSCALE:GREGORIAN
METHOD:PUBLISH
BEGIN:VEVENT
DTSTAMP:20260421T120847Z
UID:event-12811@stampinup.net
DTSTART;TZID=America/Chicago:20191201T100000
DTEND;TZID=America/Chicago:20191201T130000
CREATED:20190924T112908
DESCRIPTION:My customers schedule one-on-one or small groups with me as the
 y want to have a class.  These classes are usually held at my home in Fai
 rfield Glade.  We work on what THEY want to do\, like use a specific stam
 p set\, learn a technique\, make holiday cards or cards for special occasi
 ons\, make cards from my samples or recent catalogs\, and often they just 
 say ‘surprise me’.  The date and time is set according to their sched
 ule and my availability.  So\, even if you don't see it listed here on my
  calendar\, I could still be having a class on a given day.    Any day c
 an be class day.   Contact me to schedule yours!  \n\n\nEvent link: htt
 ps://stampinup.net/crm/events/12811
LAST-MODIFIED:20230930T230130
LOCATION:My home in Fairfield Glade
ORGANIZER;CN=Deb Mauch:mailto:dcmauch@comcast.net
SUMMARY:Any Day Can Be Class Day!
URL;VALUE=URI:https://stampinup.net/crm/events/12811
END:VEVENT
END:VCALENDAR
