BEGIN:VCALENDAR
VERSION:2.0
PRODID:icalendar-ruby
CALSCALE:GREGORIAN
METHOD:PUBLISH
BEGIN:VEVENT
DTSTAMP:20260422T124647Z
UID:event-127176@stampinup.net
DTSTART;TZID=America/Los_Angeles:20211203T190000
DTEND;TZID=America/Los_Angeles:20211203T210000
CREATED:20211016T183656
DESCRIPTION:Birthday Card Club\n\n- $45/ month (pay monthly by PayPal invoi
 ce or etransfer)\n\n*Birthday Card Club will run Dec 2021 – May 2022. \
 n\n-will receive a minimum of $30 in current Stampin’ Up! product\n(stam
 p sets not included in kit\, but can be added on at catalogue price\, no s
 hipping or taxes)\n\n-free monthly class (6 cards- 2 each of 3 designs)\n\
 n-all club nights/ days held on Zoom \n\n-will receive a thank you gift fr
 om me in May if you register/pay for all 6 classes\n\n-a great opportunity
  to get together and socialize once a month\n\n-a great way to get a stash
  of birthday cards so you are always ready to celebrate\n\n \n\nThis even
 t is being held virtually.  Birthday Club is held on the first Monday of 
 the month from 7:00pm- 9pm.  The featured stamp set will be announced in 
 advance so you can add it to your club kit if you want. Make-n-take packag
 es are in the mail to you two weeks in advance of the date so you can crea
 te along with me online!\n\n \n\n(exact dates: Dec 3\, Jan 7\, Feb 4\, Ma
 r 4\, Apr 1\, and May 6)\n\n\nEvent link: https://stampinup.net/crm/events
 /127176
LAST-MODIFIED:20211017T095806
LOCATION:Zoom\, From the Comfort of Your Home
ORGANIZER;CN=Leah Dixon:mailto:leahdixon41@gmail.com
SUMMARY:Birthday Card Club
URL;VALUE=URI:https://stampinup.net/crm/events/127176
RRULE:FREQ=MONTHLY;COUNT=6;BYDAY=1FR
END:VEVENT
END:VCALENDAR
