BEGIN:VCALENDAR
VERSION:2.0
PRODID:icalendar-ruby
CALSCALE:GREGORIAN
METHOD:PUBLISH
BEGIN:VEVENT
DTSTAMP:20260420T081338Z
UID:event-12580@stampinup.net
DTSTART;TZID=America/Chicago:20191005T100000
DTEND;TZID=America/Chicago:20191005T120000
CREATED:20190923T212713
DESCRIPTION:Come on over on Saturday October 5th for a couple hours of Card
  Making.\nClass will start at 10am and will run until 12pm.\nCost is $15 
  with $5 of the cost going to Winnipeg Harvest.\nYou’ll be making 6 car
 ds. Three designs two of each.\nRSVP is required by Friday October 4th\nHo
 ping you can make it! \nJust PM me to hold your spot.\n\n \n\nEvent link
 : https://stampinup.net/crm/events/12580
LAST-MODIFIED:20190929T164924
LOCATION:My Studio \, 12 Thackeray Ave Winnipeg 
ORGANIZER;CN=Sharon Davies:mailto:sharic1@shaw.ca
SUMMARY:World Card Making Day
URL;VALUE=URI:https://stampinup.net/crm/events/12580
END:VEVENT
END:VCALENDAR
