BEGIN:VCALENDAR
VERSION:2.0
PRODID:icalendar-ruby
CALSCALE:GREGORIAN
METHOD:PUBLISH
BEGIN:VEVENT
DTSTAMP:20260421T225540Z
UID:event-124584@stampinup.net
DTSTART;TZID=America/New_York:20211123T100000
DTEND;TZID=America/New_York:20211123T120000
CREATED:20210928T233944
DESCRIPTION:** this is the morning class **\n\nThis product-based class fea
 tures the Penguin Place bundle.\n\nYou'll stamp 6 cards--2 each of 3 desig
 ns with envelopes. Also included in your class fee is a roll of ribbon\, e
 mbellishment and 1/2 pkg of Designer Series Paper. Please bring your favor
 ite adhesive.\n\nClass fee is $25\nClass + bundle: $60\n\nPre-payment is r
 equired with registration.\nPlease register by Tuesday\, 11/16\n\nEvent li
 nk: https://stampinup.net/crm/events/124584
LAST-MODIFIED:20211103T170740
LOCATION:My home\, 2520 Michael Ave SW\, Wyoming\, MI 
ORGANIZER;CN=Stephanie Flath:mailto:stephanieflath@gmail.com
SUMMARY:PENGUIN PLACE CLASS--morning
URL;VALUE=URI:https://stampinup.net/crm/events/124584
END:VEVENT
END:VCALENDAR
