BEGIN:VCALENDAR
VERSION:2.0
PRODID:icalendar-ruby
CALSCALE:GREGORIAN
METHOD:PUBLISH
BEGIN:VEVENT
DTSTAMP:20260423T101750Z
UID:event-124573@stampinup.net
DTSTART;TZID=America/New_York:20211209T190000
DTEND;TZID=America/New_York:20211209T213000
CREATED:20210928T185823
DESCRIPTION:** this is the evening class **\n\n\nI changed this class to PR
 EP for Christmas! We're making gift packaging type items!\n\nWe're making 
 3 boxes or bags with tags. Please bring your favorite adhesive.\n\n$15 Cla
 ss fee or FREE with a $25 order at the class.\n\nRSVP by Tuesday\, 11/30\n
 \nEvent link: https://stampinup.net/crm/events/124573
LAST-MODIFIED:20211126T094358
LOCATION:My home\, 2520 Michael Ave SW\, Wyoming\, MI 
ORGANIZER;CN=Stephanie Flath:mailto:stephanieflath@gmail.com
SUMMARY:BOXES\, BAGS n TAGS CLASS - evening
URL;VALUE=URI:https://stampinup.net/crm/events/124573
END:VEVENT
END:VCALENDAR
