BEGIN:VCALENDAR
VERSION:2.0
PRODID:icalendar-ruby
CALSCALE:GREGORIAN
METHOD:PUBLISH
BEGIN:VEVENT
DTSTAMP:20260424T151054Z
UID:event-1245@stampinup.net
DTSTART;TZID=America/Chicago:20240220T100000
DTEND;TZID=America/Chicago:20240220T130000
CREATED:20190911T092201
DESCRIPTION:Beginner and experienced stampers welcome! $25 for 4 cards.\n\n
 Event link: https://stampinup.net/crm/events/1245
LAST-MODIFIED:20240205T220949
ORGANIZER;CN=Debbie Mageed:mailto:debbiemageed@gmail.com
SUMMARY:Cards and Coffee
URL;VALUE=URI:https://stampinup.net/crm/events/1245
RRULE:FREQ=MONTHLY;BYDAY=3TU
END:VEVENT
END:VCALENDAR
