BEGIN:VCALENDAR
VERSION:2.0
PRODID:icalendar-ruby
CALSCALE:GREGORIAN
METHOD:PUBLISH
BEGIN:VEVENT
DTSTAMP:20260420T160607Z
UID:event-12394@stampinup.net
DTSTART;TZID=America/Chicago:20191009T130000
DTEND;TZID=America/Chicago:20191009T140000
CREATED:20190923T144803
DESCRIPTION:My monthly free card class\, held in the charming Garden Tea Lo
 unge\, is full of creative fun and friendship!\nALL supplies included to m
 ake one beautiful card.\nTake a break in the middle of the week and stamp 
 with us-beginners and avid crafters are both welcome!\n\nEvent link: https
 ://stampinup.net/crm/events/12394
LAST-MODIFIED:20191017T200151
LOCATION:Garden Tea Lounge in Craftiques Mall\, 2375 NW Military Hwy\, 7823
 1
ORGANIZER;CN=Candy Rattray:mailto:crattray@sbcglobal.net
SUMMARY:Sip & Stamp FREE Class
URL;VALUE=URI:https://stampinup.net/crm/events/12394
END:VEVENT
END:VCALENDAR
