BEGIN:VCALENDAR
VERSION:2.0
PRODID:icalendar-ruby
CALSCALE:GREGORIAN
METHOD:PUBLISH
BEGIN:VEVENT
DTSTAMP:20260421T174342Z
UID:event-12381@stampinup.net
DTSTART;TZID=America/Chicago:20191001T180000
DTEND;TZID=America/Chicago:20191001T200000
CREATED:20190923T142813
DESCRIPTION:My team meeting is full of demonstrations\, learning\, swapping
 \, stamping\, friendship\, and FUN! \n$5 fee at the door covers all your 
 Make &amp\; Take supplies\, door prizes\, and more\nNot a demonstrator?  
 Come as my guest with no obligation and check us out!\n       Doors op
 en at 5:00 for socializing and swapping.\nRegister here and receive an ema
 il confirmation.\n\nEvent link: https://stampinup.net/crm/events/12381
LAST-MODIFIED:20191022T170304
LOCATION:Tower City Church\, 11220 Perrin Beitel\, Ste. 110\, 78217
ORGANIZER;CN=Candy Rattray:mailto:crattray@sbcglobal.net
SUMMARY:Southern Sweet Stampers Team Meeting
URL;VALUE=URI:https://stampinup.net/crm/events/12381
END:VEVENT
END:VCALENDAR
