BEGIN:VCALENDAR
VERSION:2.0
PRODID:icalendar-ruby
CALSCALE:GREGORIAN
METHOD:PUBLISH
BEGIN:VEVENT
DTSTAMP:20260424T174329Z
UID:event-12378@stampinup.net
DTSTART;TZID=America/New_York:20191028T180000
DTEND;TZID=America/New_York:20191028T210000
CREATED:20190923T142458
DESCRIPTION:Are you a Paper Pumpkin subscriber? Want to get your kit comple
 ted\, make an alternative and do it with great friends? Ask me how to beco
 me a subscriber. \n\nThis event is just $5 for the evening (does not incl
 ude the cost of your kit)\n\nEvent link: https://stampinup.net/crm/events/
 12378
LAST-MODIFIED:20190923T142458
LOCATION:My Studio\, 5 Division St\, D-112\, East Greenwich\, RI 02818
ORGANIZER;CN=Debi Ryan:mailto:stampyourjourney@gmail.com
SUMMARY:Paper Pumpkin Kit Night
URL;VALUE=URI:https://stampinup.net/crm/events/12378
END:VEVENT
END:VCALENDAR
