BEGIN:VCALENDAR
VERSION:2.0
PRODID:icalendar-ruby
CALSCALE:GREGORIAN
METHOD:PUBLISH
BEGIN:VEVENT
DTSTAMP:20260426T030706Z
UID:event-12346@stampinup.net
DTSTART;TZID=America/Denver:20191107T193000
DTEND;TZID=America/Denver:20191107T210000
CREATED:20190923T133126
DESCRIPTION:The Stamp Club meets every other month to craft. Bring your sci
 ssors and adhesive and the special seasonal projects will be prepared for 
 you if you RSVP ahead of time. SNAIL adhesive and refills are always avail
 able for purchase\, if you don't have one.\n\nFriends welcome! Cost for pr
 ojects is $7 or free if you place an order of $50 or more. \n\nEvent link
 : https://stampinup.net/crm/events/12346
LAST-MODIFIED:20190923T134508
ORGANIZER;CN=Loni Spendlove:mailto:lonispendlove@gmail.com
SUMMARY:Creative Juice Stamp Club
URL;VALUE=URI:https://stampinup.net/crm/events/12346
END:VEVENT
END:VCALENDAR
