BEGIN:VCALENDAR
VERSION:2.0
PRODID:icalendar-ruby
CALSCALE:GREGORIAN
METHOD:PUBLISH
BEGIN:VEVENT
DTSTAMP:20260422T143930Z
UID:event-1234@stampinup.net
DTSTART;TZID=America/New_York:20190914T183000
DTEND;TZID=America/New_York:20190914T210000
CREATED:20190911T091846
DESCRIPTION:Fall is right around the corner and that means my absolute favo
 urite time of year. Sweater weather\, crisp air\, the gorgeous colours of 
 fall\, Thanksgiving\, Hallowe’en and Christmas...and of course\, the Hol
 iday Catalogue!\n\nThe new Holiday Catalogue will be available September 4
 \, 2019 and you’re not going to want to miss this!\n\nJoin me at my Cata
 logue Launch party and be among the first to get your hands on the new Cat
 alogue and play with some of the new products.\n\nThere will be 2 make &am
 p\; takes featuring NEW products\, as well as:\n\n-Door Prizes\n-BOGO Tabl
 e\n-Class schedule and registration\n-Refreshments\nAnd more!\n\nPlace an 
 order valued at $60 or more at the launch party and become an InkspireMe V
 IP and receive a free gift from me.\nBring a friend I’ve never met befor
 e and you’ll both get a free gift from me.\n\nPlease RSVP by September 1
 2th\n\nEvent link: https://stampinup.net/crm/events/1234
LAST-MODIFIED:20190911T091846
LOCATION:InkspireMe\, 33 Provident Way\, Mount Hope ON
ORGANIZER;CN=Stephanie Nash:mailto:stephnash@mac.com
SUMMARY:Holiday Catalogue Launch Open House
URL;VALUE=URI:https://stampinup.net/crm/events/1234
END:VEVENT
END:VCALENDAR
