BEGIN:VCALENDAR
VERSION:2.0
PRODID:icalendar-ruby
CALSCALE:GREGORIAN
METHOD:PUBLISH
BEGIN:VEVENT
DTSTAMP:20260421T014606Z
UID:event-122620@stampinup.net
DTSTART;TZID=America/New_York:20210904T110000
DTEND;TZID=America/New_York:20210904T120000
CREATED:20210913T200347
DESCRIPTION:\n\nEvent link: https://stampinup.net/crm/events/122620
LAST-MODIFIED:20210913T200347
LOCATION:OCS Studio
ORGANIZER;CN=Jennifer Hill:mailto:jennifer@onecraftysister.com
SUMMARY:The CRAFTastics Team Meeting & Brunch
URL;VALUE=URI:https://stampinup.net/crm/events/122620
END:VEVENT
END:VCALENDAR
