BEGIN:VCALENDAR
VERSION:2.0
PRODID:icalendar-ruby
CALSCALE:GREGORIAN
METHOD:PUBLISH
BEGIN:VEVENT
DTSTAMP:20260423T043327Z
UID:event-122056@stampinup.net
DTSTART;TZID=America/New_York:20211002T100000
DTEND;TZID=America/New_York:20211002T150000
CREATED:20210909T234234
DESCRIPTION:LET'S STAMP TOGETHER!!!\n\nHow a Shoebox Swap works:\n* Design 
 [or copy] a fairly simple card with ALL CURRENT SU! PRODUCT. (It shouldn't
  take TOO long to make\, since we'll be making a bunch of cards!!)\n* Cut 
 and score--but don't stamp--all the supplies for 10 more cards of the same
  design. (I'll email you a final number Saturday\; 9/25.)\n* Pack a box/ba
 g/etc with all the supplies needed to do the actual stamping (punches\, di
 es\, special adhesives\, ink pads).\n* We'll pass the boxes of supplies a
 round and each complete the card in the box--a sample should be in the box
 .\n* We'll all leave with a bunch of cards!\n\nWe'll also have a lunch of 
 pizza together!\n\nClass fee is $15 and includes lunch--pizza. I'll provid
 e water\; you bring any other non-alcoholic beverage you desire.\n\nPlease
  RSVP ASAP.\n(Deadline: 9/25)\n\nEvent link: https://stampinup.net/crm/eve
 nts/122056
LAST-MODIFIED:20210918T144433
LOCATION:HSB\, room 13\, 5625 Burlingame Ave SW\, Wyoming
ORGANIZER;CN=Stephanie Flath:mailto:stephanieflath@gmail.com
SUMMARY:WORLD CARD-MAKING DAY SHOEBOX SWAP
URL;VALUE=URI:https://stampinup.net/crm/events/122056
END:VEVENT
END:VCALENDAR
