BEGIN:VCALENDAR
VERSION:2.0
PRODID:icalendar-ruby
CALSCALE:GREGORIAN
METHOD:PUBLISH
BEGIN:VEVENT
DTSTAMP:20260422T102259Z
UID:event-121022@stampinup.net
DTSTART;TZID=America/Denver:20220914T100000
DTEND;TZID=America/Denver:20220914T110000
CREATED:20210903T235444
DESCRIPTION:\nJoin me for a fun morning of card making. We will meet at Fre
 son Bros at 5139 Mullen\, Edmonton\, AB in the restaurant at the community
  table. We make 4 cute cards. I will cut and prep your card kits so you ca
 n stamp along with me.  The cost is Free with a $35 order or $25. Your ch
 oice.\n\nEvent link: https://stampinup.net/crm/events/121022
LAST-MODIFIED:20251022T115159
ORGANIZER;CN=Karina Chin:mailto:kchin2@telus.net
SUMMARY:Wednesday Morning Card Class
URL;VALUE=URI:https://stampinup.net/crm/events/121022
END:VEVENT
END:VCALENDAR
