BEGIN:VCALENDAR
VERSION:2.0
PRODID:icalendar-ruby
CALSCALE:GREGORIAN
METHOD:PUBLISH
BEGIN:VEVENT
DTSTAMP:20260420T152806Z
UID:event-120153@stampinup.net
DTSTART;TZID=America/New_York:20210907T121500
DTEND;TZID=America/New_York:20210907T124500
CREATED:20210830T150910
DESCRIPTION:Each month we spend 30 minutes together learning about somethin
 g that will help you make the most out of your Demonstrator benefits.\nBri
 ng your own lunch if desired\n\nEvent link: https://stampinup.net/crm/even
 ts/120153
LAST-MODIFIED:20210830T150910
ORGANIZER;CN=Jini Merck:mailto:stampwithjini@gmail.com
SUMMARY:Team Lunch & Learn
URL;VALUE=URI:https://stampinup.net/crm/events/120153
RRULE:FREQ=MONTHLY;UNTIL=20231231T174500Z;BYDAY=1TU
END:VEVENT
END:VCALENDAR
